BEGIN:VCALENDAR
VERSION:2.0
PRODID:-//The Vault Wine Bar - ECPv4.9.12//NONSGML v1.0//EN
CALSCALE:GREGORIAN
METHOD:PUBLISH
X-WR-CALNAME:The Vault Wine Bar
X-ORIGINAL-URL:https://www.vaultwinebar.com
X-WR-CALDESC:Events for The Vault Wine Bar
BEGIN:VTIMEZONE
TZID:UTC
BEGIN:STANDARD
TZOFFSETFROM:+0000
TZOFFSETTO:+0000
TZNAME:UTC
DTSTART:20260101T000000
END:STANDARD
END:VTIMEZONE
BEGIN:VEVENT
DTSTART;TZID=UTC:20260415T180000
DTEND;TZID=UTC:20260415T200000
DTSTAMP:20260419T141443
CREATED:20260109T191351Z
LAST-MODIFIED:20260326T214913Z
UID:11445-1776276000-1776283200@www.vaultwinebar.com
SUMMARY:Wine 101:  How to pair wine with food
DESCRIPTION:Dylan Barile from Vintage Wines will be holding a class on how to pair wine with food.  $19 a person includes wine tastings and snacks.  Limited seating.  Reservations required. \nShare This Page
URL:https://www.vaultwinebar.com/event/wine-101-how-to-taste-wine/
LOCATION:The Vault Wine Bar
CATEGORIES:Event
ATTACH;FMTTYPE=image/jpeg:https://www.vaultwinebar.com/wp-content/uploads/2020/01/wine-101.jpg
END:VEVENT
END:VCALENDAR