BEGIN:VCALENDAR
VERSION:2.0
PRODID:-//The Vault Wine Bar - ECPv4.9.12//NONSGML v1.0//EN
CALSCALE:GREGORIAN
METHOD:PUBLISH
X-WR-CALNAME:The Vault Wine Bar
X-ORIGINAL-URL:https://www.vaultwinebar.com
X-WR-CALDESC:Events for The Vault Wine Bar
BEGIN:VTIMEZONE
TZID:UTC
BEGIN:STANDARD
TZOFFSETFROM:+0000
TZOFFSETTO:+0000
TZNAME:UTC
DTSTART:20260101T000000
END:STANDARD
END:VTIMEZONE
BEGIN:VEVENT
DTSTART;TZID=UTC:20260424T170000
DTEND;TZID=UTC:20260424T190000
DTSTAMP:20260420T152600
CREATED:20200430T213530Z
LAST-MODIFIED:20200430T213530Z
UID:11748-1777050000-1777057200@www.vaultwinebar.com
SUMMARY:Seafood Friday!
DESCRIPTION:Featuring a different seafood special every Friday night. \nShare This Page
URL:https://www.vaultwinebar.com/event/seafood-friday-2020-05-29/2026-04-24/
LOCATION:The Vault Wine Bar
CATEGORIES:Food Special
ATTACH;FMTTYPE=image/jpeg:https://www.vaultwinebar.com/wp-content/uploads/2020/04/seafood-special.jpg
END:VEVENT
END:VCALENDAR