BEGIN:VCALENDAR
VERSION:2.0
PRODID:-//The Vault Wine Bar - ECPv4.9.12//NONSGML v1.0//EN
CALSCALE:GREGORIAN
METHOD:PUBLISH
X-WR-CALNAME:The Vault Wine Bar
X-ORIGINAL-URL:https://www.vaultwinebar.com
X-WR-CALDESC:Events for The Vault Wine Bar
BEGIN:VTIMEZONE
TZID:UTC
BEGIN:STANDARD
TZOFFSETFROM:+0000
TZOFFSETTO:+0000
TZNAME:UTC
DTSTART:20250101T000000
END:STANDARD
END:VTIMEZONE
BEGIN:VEVENT
DTSTART;TZID=UTC:20250510T190000
DTEND;TZID=UTC:20250510T220000
DTSTAMP:20260424T155625
CREATED:20250401T173705Z
LAST-MODIFIED:20250401T173705Z
UID:10399-1746903600-1746914400@www.vaultwinebar.com
SUMMARY:Live Music:  Kaptain Kurt
DESCRIPTION:Share This Page
URL:https://www.vaultwinebar.com/event/live-music-kaptain-kurt-6/
LOCATION:The Vault Wine Bar
CATEGORIES:Event
ATTACH;FMTTYPE=image/jpeg:https://www.vaultwinebar.com/wp-content/uploads/2018/04/kaptain-kurt.jpg
END:VEVENT
END:VCALENDAR