BEGIN:VCALENDAR
VERSION:2.0
PRODID:-//The Vault Wine Bar - ECPv4.9.12//NONSGML v1.0//EN
CALSCALE:GREGORIAN
METHOD:PUBLISH
X-WR-CALNAME:The Vault Wine Bar
X-ORIGINAL-URL:https://www.vaultwinebar.com
X-WR-CALDESC:Events for The Vault Wine Bar
BEGIN:VTIMEZONE
TZID:UTC
BEGIN:STANDARD
TZOFFSETFROM:+0000
TZOFFSETTO:+0000
TZNAME:UTC
DTSTART:20220101T000000
END:STANDARD
END:VTIMEZONE
BEGIN:VEVENT
DTSTART;TZID=UTC:20220821T120000
DTEND;TZID=UTC:20220821T140000
DTSTAMP:20260420T083908
CREATED:20220318T221400Z
LAST-MODIFIED:20220318T221400Z
UID:6271-1661083200-1661090400@www.vaultwinebar.com
SUMMARY:Live Music:  David Schwan
DESCRIPTION:Share This Page
URL:https://www.vaultwinebar.com/event/live-music-david-schwan-3/
LOCATION:The Vault Wine Bar
CATEGORIES:Event
ATTACH;FMTTYPE=image/jpeg:https://www.vaultwinebar.com/wp-content/uploads/2018/04/02_live_music.jpg
END:VEVENT
END:VCALENDAR