BEGIN:VCALENDAR
VERSION:2.0
PRODID:-//The Vault Wine Bar - ECPv4.9.12//NONSGML v1.0//EN
CALSCALE:GREGORIAN
METHOD:PUBLISH
X-WR-CALNAME:The Vault Wine Bar
X-ORIGINAL-URL:https://www.vaultwinebar.com
X-WR-CALDESC:Events for The Vault Wine Bar
BEGIN:VTIMEZONE
TZID:UTC
BEGIN:STANDARD
TZOFFSETFROM:+0000
TZOFFSETTO:+0000
TZNAME:UTC
DTSTART:20260101T000000
END:STANDARD
END:VTIMEZONE
BEGIN:VEVENT
DTSTART;TZID=UTC:20260421T170000
DTEND;TZID=UTC:20260421T210000
DTSTAMP:20260420T121158
CREATED:20240329T165436Z
LAST-MODIFIED:20260305T211710Z
UID:11576-1776790800-1776805200@www.vaultwinebar.com
SUMMARY:Chef's Choice Dinner Special
DESCRIPTION:Share This Page
URL:https://www.vaultwinebar.com/event/chefs-choice-dinner-special-4/2026-04-21/
LOCATION:The Vault Wine Bar
CATEGORIES:Food Special
ATTACH;FMTTYPE=image/jpeg:https://www.vaultwinebar.com/wp-content/uploads/2020/01/chefs-choice.jpg
END:VEVENT
END:VCALENDAR