BEGIN:VCALENDAR
VERSION:2.0
PRODID:-//The Vault Wine Bar - ECPv4.9.12//NONSGML v1.0//EN
CALSCALE:GREGORIAN
METHOD:PUBLISH
X-WR-CALNAME:The Vault Wine Bar
X-ORIGINAL-URL:https://www.vaultwinebar.com
X-WR-CALDESC:Events for The Vault Wine Bar
BEGIN:VTIMEZONE
TZID:UTC
BEGIN:STANDARD
TZOFFSETFROM:+0000
TZOFFSETTO:+0000
TZNAME:UTC
DTSTART:20250101T000000
END:STANDARD
END:VTIMEZONE
BEGIN:VEVENT
DTSTART;TZID=UTC:20250509T110000
DTEND;TZID=UTC:20250509T220000
DTSTAMP:20260424T172610
CREATED:20240329T162732Z
LAST-MODIFIED:20250423T205014Z
UID:9282-1746788400-1746828000@www.vaultwinebar.com
SUMMARY:11th Anniversary Party!
DESCRIPTION:The Vault Wine Bar is celebrating its 11th anniversary with a Keys To The Vault event!  Everyone that comes in\, gets a key to a safe deposit box.  All boxes filled with prizes up to a $50 Vault gift card.  Join us! \nShare This Page
URL:https://www.vaultwinebar.com/event/10th-anniversary-party/
LOCATION:The Vault Wine Bar
CATEGORIES:Event
ATTACH;FMTTYPE=image/jpeg:https://www.vaultwinebar.com/wp-content/uploads/2024/03/Gold-and-Black-New-Year-Cheers-2021-Instagram-Post.jpg
END:VEVENT
END:VCALENDAR